BEGIN:VCALENDAR
VERSION:2.0
PRODID:-//Scientific Horseshoeing - ECPv6.15.20//NONSGML v1.0//EN
CALSCALE:GREGORIAN
METHOD:PUBLISH
X-ORIGINAL-URL:https://scientifichorseshoeing.co.uk
X-WR-CALDESC:Events for Scientific Horseshoeing
REFRESH-INTERVAL;VALUE=DURATION:PT1H
X-Robots-Tag:noindex
X-PUBLISHED-TTL:PT1H
BEGIN:VTIMEZONE
TZID:Europe/London
BEGIN:DAYLIGHT
TZOFFSETFROM:+0000
TZOFFSETTO:+0100
TZNAME:BST
DTSTART:20220327T010000
END:DAYLIGHT
BEGIN:STANDARD
TZOFFSETFROM:+0100
TZOFFSETTO:+0000
TZNAME:GMT
DTSTART:20221030T010000
END:STANDARD
BEGIN:DAYLIGHT
TZOFFSETFROM:+0000
TZOFFSETTO:+0100
TZNAME:BST
DTSTART:20230326T010000
END:DAYLIGHT
BEGIN:STANDARD
TZOFFSETFROM:+0100
TZOFFSETTO:+0000
TZNAME:GMT
DTSTART:20231029T010000
END:STANDARD
BEGIN:DAYLIGHT
TZOFFSETFROM:+0000
TZOFFSETTO:+0100
TZNAME:BST
DTSTART:20240331T010000
END:DAYLIGHT
BEGIN:STANDARD
TZOFFSETFROM:+0100
TZOFFSETTO:+0000
TZNAME:GMT
DTSTART:20241027T010000
END:STANDARD
BEGIN:DAYLIGHT
TZOFFSETFROM:+0000
TZOFFSETTO:+0100
TZNAME:BST
DTSTART:20250330T010000
END:DAYLIGHT
BEGIN:STANDARD
TZOFFSETFROM:+0100
TZOFFSETTO:+0000
TZNAME:GMT
DTSTART:20251026T010000
END:STANDARD
BEGIN:DAYLIGHT
TZOFFSETFROM:+0000
TZOFFSETTO:+0100
TZNAME:BST
DTSTART:20260329T010000
END:DAYLIGHT
BEGIN:STANDARD
TZOFFSETFROM:+0100
TZOFFSETTO:+0000
TZNAME:GMT
DTSTART:20261025T010000
END:STANDARD
BEGIN:DAYLIGHT
TZOFFSETFROM:+0000
TZOFFSETTO:+0100
TZNAME:BST
DTSTART:20270328T010000
END:DAYLIGHT
BEGIN:STANDARD
TZOFFSETFROM:+0100
TZOFFSETTO:+0000
TZNAME:GMT
DTSTART:20271031T010000
END:STANDARD
END:VTIMEZONE
BEGIN:VEVENT
DTSTART;TZID=Europe/London:20260326T000000
DTEND;TZID=Europe/London:20260326T235900
DTSTAMP:20260422T212738
CREATED:20260115T113206Z
LAST-MODIFIED:20260226T114323Z
UID:60997-1774483200-1774569540@scientifichorseshoeing.co.uk
SUMMARY:Laminitis: What Really Happens - The true pathophysiology of laminitis
DESCRIPTION:Laminitis series with Prof C. Pollitt session 2. \n\nTake advantage of our full season pass for over 20% discount\, to see all 7 webinars – click here\n \nPurchase you tickets via Eventbrite here \n\nBased on Pollitt’s major findings: Following years of research Professor Pollitt discusses the aetiology’s and pathogenesis of laminitis.:\n\n\n\nIn session 3 Pollitt takes an indepth exploration at Laminitis: What Really Happens \nThe true pathophysiology of laminitis—step by step. \nBased on Pollitt’s major findings: \n\nLamellar failure mechanisms\nVascular vs inflammatory pathways\nEndocrinopathic (insulin) laminitis progression\nEnzymatic and mechanical breakdown\nMyths about “blood flow shutting off”\nEarly markers vs irreversible damage\n\n\n\n\n\n\n\n\n\n\n\n\n\n\n\n\n\n\n\nAbout Professor Chris PollittProfessor Chris Pollitt BVSc PhD is one of the most influential figures in modern equine veterinary science. His landmark research at the University of Queensland revolutionised global understanding of laminitis—including: \n\nThe discovery of lamellar stretch and separation mechanisms\nVascular\, inflammatory\, endocrinological\, and mechanical pathways of laminitis\nThe hoof capsule–lamellar interface in both healthy and diseased feet\n3D mapping of lamellar anatomy\n\nProfessor Pollitt has authored or co-authored hundreds of peer-reviewed papers\, mentored numerous researchers\, and remains a globally respected authority whose work is foundational to every modern text on laminitis. \nThis program is an extraordinary opportunity: Pollitt rarely presents extended\, public-access educational series of this depth. \n\n\n\n\nWho Should Attend – And WhyThis series is essential for: \n✔ Farriers\nGain a deep\, anatomical and biomechanical understanding that improves trimming\, shoeing\, and long-term laminitis rehabilitation. \n✔ Veterinarians & Vet Students\nSharpen clinical diagnosis\, improve radiographic interpretation\, and update treatment strategies based on the very latest evidence. \n✔ Hoofcare Practitioners & Paraprofessionals\nBuild confidence in assessment\, imaging interpretation\, and real-world management. \n✔ Horse Owners\, Trainers & Riders\nUnderstand what laminitis really is\, how it develops\, and what early warning signs should never be ignored. \n✔ Equine Educators\nUse the most accurate research available to teach anatomy\, pathology\, and hoof care. \nIf you own\, care for\, or work with horses\, you cannot afford to misunderstand laminitis.\nThis series gives you the most accurate\, scientifically backed information available anywhere. \n🎯 Learning OutcomesAttendees will leave this series with the ability to: \n\nRecognise early laminitis warning signs with far greater accuracy\nUnderstand the true anatomy and function of the healthy hoof\nExplain exactly what happens during laminitis—not the myths\nDistinguish between acute\, developing\, and chronic laminitis\nInterpret radiographs and venograms with greater clarity\nUnderstand lamellar biomechanics and their failure points\nMake informed decisions about ongoing management and treatment\nEvaluate shoeing\, trimming\, and rehabilitation protocols critically\nCommunicate confidently with vets\, farriers\, and owners using correct terminology\nIdentify research-supported strategies—and spot misinformation instantly\n\nThis is not a surface-level overview.\nThis is Pollitt’s lifetime of research explained in clear\, practical terms. \n\n\n\n\nFrequently Asked Questions \n1. Do I need previous veterinary knowledge to attend?\nNo. Pollitt presents complex science in clear\, accessible language. All levels are welcome. \n2. Will I receive recordings if I register but can’t attend live?\nYes. All attendees receive downloadable recordings after each session. \n3. Is this CPD certified?\nYes. Each webinar provides CPD hours recognised by most equine professional bodies. \n4. Are live Q&A sessions included?\nAbsolutely. Each session includes ample time for direct Q&A with Professor Pollitt. \n5. Can I purchase individual sessions?\nYes. \n\n£44 per webinar for HoofFlix subscribers\n£57.50 per webinar for non-subscribers\n\n6. Do I need any special software?\nNo. You will receive a direct access link desktop\, tablet\, and mobile friendly.
URL:https://scientifichorseshoeing.co.uk/liveevent/laminitis-series-with-prof-c-pollitt-session-2/
CATEGORIES:Zoom Webinar
ATTACH;FMTTYPE=image/webp:https://scientifichorseshoeing.co.uk/wp-content/uploads/2026/01/Laminitis-series-2.webp
END:VEVENT
BEGIN:VEVENT
DTSTART;TZID=Europe/London:20260312T200000
DTEND;TZID=Europe/London:20260312T220000
DTSTAMP:20260422T212738
CREATED:20260115T115848Z
LAST-MODIFIED:20260212T070232Z
UID:61011-1773345600-1773352800@scientifichorseshoeing.co.uk
SUMMARY:Myth Busters with Uno Yxklinten - Hoof Mechanics Made Practical
DESCRIPTION:📅 Date: Thursday 12th March 2026 7pm (GMT)🕖 Format: Live online webinar via Zoom🎤 Presenter: Uno Yxklinten \nTickets available on Eventbrite  \nAbout the Webinar\n Hoof Mechanics Made Practical – ” What you can do with it tomorrow” \n\nOverview\n\n\n\n\n\nUno Yxklinten translates complex hoof mechanics and acronyms into practical trimming and shoeing knowledge that improves performance\n\n\n\nModern hoof care discussions are increasingly framed around mechanical terminology and acronyms such as P.O.B.\, C.O.R.\, C.O.A.\, and C.O.P. While these terms are widely referenced\, their practical meaning and relevance to trimming and shoeing decisions is often poorly understood. \nIn this HoofFlix webinar\, Uno Yxklinten translates the core concepts from his PhD research on equine foot mechanics into clear\, practical\, common-sense language. Rather than abstract theory\, this session focuses on helping hoof care providers understand what these concepts actually represent\, how they influence force distribution and hoof function\, and why they matter in everyday practice. \nThe webinar will explore: \n\nThe mechanical meaning behind commonly used hoof-care acronyms\nHow these concepts relate directly to trimming and shoeing decisions\nWhere misinterpretation commonly occurs in modern farriery discussions\nHow improved mechanical understanding supports consistency\, performance\, and equine welfare\n\nAs with recent HoofFlix webinars featuring Professor Chris Pollitt\, this session is designed to bridge the gap between science and practice\, empowering hoof care professionals with knowledge they can confidently apply. \nPresenter Bio \nUno Yxklinten is a highly respected Swedish farrier and researcher with a specialist focus on equine foot mechanics and applied biomechanics. Working at the intersection of academic research and practical farriery\, Uno has conducted detailed scientific investigations into how forces act within the equine foot and how trimming and shoeing interventions influence those forces. \nThrough his PhD research\, Uno has become known for his ability to translate complex mechanical principles into practical\, usable insights for hoof care professionals. His work is driven by the goal of improving technical understanding\, decision-making\, and ultimately equine welfare\, by ensuring that scientific knowledge is both accurate and accessible. \n \nFrequently Asked Questions\nIs this webinar CPD certificated?Yes. All attendees will receive a CPD certificate for 2 hours of continuing professional development. \nWill the webinar be recorded?Yes. A full recording will be emailed to all registered attendees after the live event\, even if you’re unable to attend in real time. \nIs live transcription available?Yes. The webinar will be live-transcribed within Zoom\, with multiple language options available to support international attendees. \nDo I need to attend live to receive the CPD certificate?No. Registration provides access to the recording and CPD certification. \n 
URL:https://scientifichorseshoeing.co.uk/liveevent/myth-busters-with-uno-yxklinten/
LOCATION:Online Event
CATEGORIES:Zoom Webinar
ATTACH;FMTTYPE=image/webp:https://scientifichorseshoeing.co.uk/wp-content/uploads/2026/01/Myth-Busters-with-Uno-Yxklinten.webp
END:VEVENT
BEGIN:VEVENT
DTSTART;TZID=Europe/London:20251002T190000
DTEND;TZID=Europe/London:20251002T210000
DTSTAMP:20260422T212738
CREATED:20250925T163540Z
LAST-MODIFIED:20250930T161322Z
UID:60393-1759431600-1759438800@scientifichorseshoeing.co.uk
SUMMARY:From the ground up Equine Podiatry with Dr. Sammy Pitman
DESCRIPTION:Join HoofFlix for a unique live webinar with Dr. Sammy L. Pittman\, DVM\, CF\, APF\, one of the leading voices in equine podiatry. \n\n\n\n\n\n\n\n\nDate and time : Thu\, 2 Oct 2025 20:00 – 22:00 BST: \nLocation : Online webinar : Tickets are only available through the Eventbrite Link attached below: \nBook Your Tickets HERE  \n\n  \nAbout the Speaker : Dr. Sammy Pitman DVM\, CJF of Innovative equine services \n \nDr. Sammy L. Pittman grew up shoeing horses before pursuing veterinary medicine. Inspired by world-renowned podiatrist Dr. Ric Redden\, he founded Innovative Equine Podiatry & Veterinary Services in Texas\, one of the few clinics in the U.S. dedicated solely to equine podiatry. His work combines advanced diagnostics such as digital radiography and venography with therapeutic shoeing to manage some of the most challenging hoof conditions. \n\nAbout this event\n\n\n\n\n\n\nground-up: A Conversation with Dr. Sammy L. Pittman\, DVM \nWelcome to ground-up\, an online event where you can have a casual chat with Dr. Sammy L. Pittman\, DVM. Join us for an insightful conversation about all things related to veterinary medicine and equine podiatr. Dr. Pittman will share his expertise and answer your burning questions. Don’t miss this opportunity to learn from a seasoned professional in the field. Mark your calendars and get ready for an engaging discussion! \n\n\n\n\n\n\n\n\n\n\n\nWho Should Attend: \n\nFarriers (novice to advanced)\nEquine veterinarians and veterinary students\nHoof care professionals & technicians\nRiders\, trainers\, and horse owners who want deeper understanding of hoof / lower-limb biomechanics\n\nWhy: \n\nTo gain insight into advanced hoof assessment and treatment strategies not often taught in standard farriery or veterinary curriculum.\nTo understand how to interpret radiographs & venograms in hoof pathology.\nTo learn strategies for difficult hoof cases where “standard” trimming/shoeing has failed.\nTo apply preventive measures in training\, management\, and hoof care to reduce risk of chronic disease.\n\n\n\n\n\n\n\n\n\n\n\n\nEvent Synopsis & Learning Outcomes\nIn this webinar\, Dr. Pittman will discuss his professional journey\, mentorships\, and an array of complex cases drawn from his work in equine podiatry. By the end\, attendees will leave with not just theory\, but practical\, applicable tools they can use in hoof assessment and therapeutic farriery. \nLearning Outcomes: Attendees will be able to… \n\nUnderstand Dr. Pittman’s approach to hoof health.\nIdentify key diagnostic tools (radiographs\, venograms) and how to interpret specific measurements (bone angle\, palmar angle\, toe lever\, etc.).\nRecognize signs of major hoof pathologies (laminitis/founder\, navicular\, club feet\, high-low syndrome\, etc.).\nExplain preventive strategies including trimming/shoeing modifications that relieve tendon load\, improve vascular supply\, and correct alignment.\nFormulate a plan for managing difficult hoof cases using advanced diagnostics\, shoeing techniques\, and foot care products.
URL:https://scientifichorseshoeing.co.uk/liveevent/from-the-ground-up-equine-podiatry-with-dr-sammy-pitman/
CATEGORIES:Zoom Webinar
ATTACH;FMTTYPE=image/png:https://scientifichorseshoeing.co.uk/wp-content/uploads/2023/06/newicons-31.png
ORGANIZER;CN="hoofflix.com":MAILTO:info@hoofflix.com
END:VEVENT
BEGIN:VEVENT
DTSTART;TZID=Europe/London:20240524T190000
DTEND;TZID=Europe/London:20240524T210000
DTSTAMP:20260422T212738
CREATED:20240415T161555Z
LAST-MODIFIED:20240514T124003Z
UID:58339-1716577200-1716584400@scientifichorseshoeing.co.uk
SUMMARY:Farriery - A multi practitioner approach to farriery treatment protocols
DESCRIPTION:Description. \nFollowing on from our recent functional anatomy webinar where we explored the connectivity between foot and skeletal and muscular structure it is clear that the hoof and the whole horse are inextricably linked\, they effect and are affected by each other. \nIn this interactive webinar Dr. Mark Caldwell PhD FWCF discusses the hoof and its whole horse connectivity with manipulative therapy expert Ve-Ma-Therapy Dr Martina Neidhart. This presentation will complement the discussion on the effect that hoof care can have on athletic performance. The connection between the structural soundness of the hoof and the integrity of the rest of the body of the horse\, is undeniable. \nOur guest speaker Martina Neidhart\, Dr. med. vet. Veterinary Consultant runs her own succesful Veterinary Manual therapy practice will explore the connections between farriery protocols\, posture\, lameness and pathologies of the equine musculoskeletal system. \nWe are excited to welcome Martina Neidhart to a live interview\, to discuss the connection between the hoof and the body\, and how we can influence these connections and relationships. Growing up with dogs and around horses in Switzerland\, Martina gained experience in rehabilitation and manual therapy in various clinics and institutions in Switzerland and abroad (Europe\, North America\, Australia) during her studies as a veterinarian in Bern/CH and Budapest/HU – and even more intensively afterwards. \nThe more she learned about it\, the more fascinated she became by applied neurology and biomechanics and their applications with 4-legged patients. Martina believes biomechanics are the basis of all movement and that as such any deviation from the ideal is later associated with pathologies. Based on her extensive experience Martina is a passionate advocate that prevention is the best cure! \nThis event qualifies for CPD \nAll attendees will recieve a download link to the recorded event
URL:https://scientifichorseshoeing.co.uk/liveevent/farriery-a-multi-practitioner-approach-to-farriery-treatment-protocols/
CATEGORIES:Online Event,Zoom Webinar
ATTACH;FMTTYPE=image/png:https://scientifichorseshoeing.co.uk/wp-content/uploads/2024/04/Picture2.png
END:VEVENT
BEGIN:VEVENT
DTSTART;TZID=Europe/London:20240510T190000
DTEND;TZID=Europe/London:20240510T210000
DTSTAMP:20260422T212738
CREATED:20240415T153444Z
LAST-MODIFIED:20240508T112122Z
UID:58333-1715367600-1715374800@scientifichorseshoeing.co.uk
SUMMARY:FUNCTIONAL ANATOMY A  FARRIERY CONCEPT
DESCRIPTION:Description. \nThrough the medium of painted anatomy on the live horse our own Paul Conroy BSc (Hons) and Neil Madden FWCF deliver a comprehensive review of the equine musculoskeletal system. \nThis is a light bulb presentation and a must view for all farriery and hoof care students and professionals. \nBy bringing two-dimensional imagery into a three-dimensional arena this excellent recorded event\, with two highly renowned farriers\, will help you have a deeper understanding of the functional anatomy of the horse’s limb. \nCourse delivery -Online Ticket: A recorded broadcast event for those interested in relating external points of the horse to its internal musculoskeletal structures as they pertain to farriery and without the need for dissection as a method of demonstration. \nCourse content –\nThe event will support your knowledge gained from textbooks\, transporting into a practical and tangible understanding of how structures and the mechanics work and how this can impact your decisions made in everyday farriery. \nLearning of anatomy makes so much more sense when you can locate individual structures of the equine limb and locomotor system In-Vivo gives a unique insight into how they work. You will witness how important anatomical structures are transposed onto the live horse through the medium of paint. Once exposed watch how the internal structures work in relation to the horses’ dynamic movements by observation and assessment. \nAttendees will also receive a free download of the event recording + Access to free download of upto 6 still images from the presentation for private non commercial use. \n 
URL:https://scientifichorseshoeing.co.uk/liveevent/functional-anatomy-a-farriery-concept/
CATEGORIES:Online Event,Zoom Webinar
ATTACH;FMTTYPE=image/jpeg:https://scientifichorseshoeing.co.uk/wp-content/uploads/2024/04/Picture1.jpg
END:VEVENT
BEGIN:VEVENT
DTSTART;TZID=Europe/London:20230916T130000
DTEND;TZID=Europe/London:20230916T160000
DTSTAMP:20260422T212738
CREATED:20230827T165637Z
LAST-MODIFIED:20230828T212409Z
UID:56602-1694869200-1694880000@scientifichorseshoeing.co.uk
SUMMARY:"Through The Eyes" Functional Equine Anatomy and Shoeing For Pathologies
DESCRIPTION:“Through The Eyes”  Functional Equine  Anatomy and Shoeing for Pathologies online webinar contains recorded extracts from the “Through the Eyes” wet lab. \nThe Zoom webinar will be hosted by Scientific Horseshoeing  with introduction and Q&A \, all attendees will have access to the downloadable recording to review at their leisure \nTicket Price £35 \nTicket Purchase Follow the Eventbrite link in the DETAILS \nCPD Points   1.5
URL:https://scientifichorseshoeing.co.uk/liveevent/through-the-eyes-functional-equine-anatomy-and-shoeing-for-pathologies/
LOCATION:Online Event
CATEGORIES:Online Event,Zoom Webinar
ATTACH;FMTTYPE=image/jpeg:https://scientifichorseshoeing.co.uk/wp-content/uploads/2023/08/DSC_1610-Small.jpeg
END:VEVENT
END:VCALENDAR